BEGIN:VCALENDAR
VERSION:2.0
PRODID:-//NC Eclectic Esports - ECPv6.15.20//NONSGML v1.0//EN
CALSCALE:GREGORIAN
METHOD:PUBLISH
X-ORIGINAL-URL:https://nceclecticesports.com
X-WR-CALDESC:Events for NC Eclectic Esports
REFRESH-INTERVAL;VALUE=DURATION:PT1H
X-Robots-Tag:noindex
X-PUBLISHED-TTL:PT1H
BEGIN:VTIMEZONE
TZID:America/New_York
BEGIN:DAYLIGHT
TZOFFSETFROM:-0500
TZOFFSETTO:-0400
TZNAME:EDT
DTSTART:20240310T070000
END:DAYLIGHT
BEGIN:STANDARD
TZOFFSETFROM:-0400
TZOFFSETTO:-0500
TZNAME:EST
DTSTART:20241103T060000
END:STANDARD
BEGIN:DAYLIGHT
TZOFFSETFROM:-0500
TZOFFSETTO:-0400
TZNAME:EDT
DTSTART:20250309T070000
END:DAYLIGHT
BEGIN:STANDARD
TZOFFSETFROM:-0400
TZOFFSETTO:-0500
TZNAME:EST
DTSTART:20251102T060000
END:STANDARD
BEGIN:DAYLIGHT
TZOFFSETFROM:-0500
TZOFFSETTO:-0400
TZNAME:EDT
DTSTART:20260308T070000
END:DAYLIGHT
BEGIN:STANDARD
TZOFFSETFROM:-0400
TZOFFSETTO:-0500
TZNAME:EST
DTSTART:20261101T060000
END:STANDARD
END:VTIMEZONE
BEGIN:VEVENT
DTSTART;TZID=America/New_York:20250104T150000
DTEND;TZID=America/New_York:20250104T170000
DTSTAMP:20260420T062841
CREATED:20241205T155318Z
LAST-MODIFIED:20250104T211853Z
UID:1742-1736002800-1736010000@nceclecticesports.com
SUMMARY:Casual Chaos at Gizmo Brew Works - Durham Taproom: 4 Person Silly Smash Ultimate Tournament\, All Ages Welcome
DESCRIPTION:RSVP today! RSVPs get priority for signing up in person.\n\n\n\n\n\nAll Ages Welcome!\n\n\n\n3109 Shannon Rd #201\, Durham\, NC 27707\n\n\n\nEvery First Saturday\, 3-5 PM\n\n\n\nSchedule\n\n\n\n\n3 PM: Free Play\n\n\n\n3:30 PM: Smash Ultimate Tournament Starts\n\n\n\n\nFree to attend!\n\n\n\nCasual Chaos is the Smash Ultimate tournament made for players who just want to have fun. With silly game modes\, no eliminations until grand finals\, minimum wait times\, prizes for the top 4\, and a relaxed atmosphere\, it’s the perfect way to meet new friends and chill out! \n\n\n\nLow sodium environment for casual gamers\n\n\n\nNo experience required. This event is focused on having fun and creating hilarious memories. Players will start in a Swiss bracket playing in groups of four with silly game modes. At the end of the event we will cut to our top four players who will compete for prizes. Whether this will be your first time playing Smash Bros. or you’ve been playing for years and are looking for a more casual environment\, you are welcome here.  \n\n\n\nHow the event works\n\n\n\nCHOOSE YOUR CHARACTER: Before 3:30 PM check-in to sign up for our Smash Bros. Ultimate Tournament. RSVPing is not a guarantee of entry into the tournament\, but you do get priority. There is a player cap and it is first come\, first serve if you haven’t RSVPed. \n\n\n\nREADY\, GO: We will call your matches and tell you where to go. You will sit down and play in pods of four. At the end of your four person match\, record your placement on the scorecard given to you and report back to the organizers. Wait times between matches may be up to 20 minutes. \n\n\n\nNEW CHALLENGER: Each match afterwards you will face people that scored similar to you. Score high enough and you’ll make the cut for top four to play for prizes at the end of the event. \n\n\n\nSilly Game Modes\n\n\n\nAny of the following silly game modes may be picked randomly at the start of each round and each game mode lasts 4 minutes long. No game mode will be repeated until the final round when we will do 3 silly game modes. \n\n\n\nFinal Smash\nPick whoever you think has the coolest final smash and be the first to fill up your smash meter! \n\n\n\n\nFootsies\nEvery hit is a gamble with only 10 stamina to work with—land a strike\, but be careful\, or someone else might catch you back. \n\n\n\n\nHot Potato\nThe bomb’s ticking—who will it explode on? The game will spawn in sticky bombs that players can hurl at each other. Dodge\, aim\, and pass the bomb before it’s too late—just don’t be the one caught holding it when it blows! \n\n\n\n\nMinion Master\nAssist Trophies are dropping—grab them first\, control the battlefield\, and defeat your opponents’ assists for extra points. \n\n\n\n\nRampage\nThe bigger\, the better! Start large and collect mushrooms to grow to gigantic proportions and crush your foes in this wild\, destruction-filled battle inspired by the classic Rampage. \n\n\n\n\nSalute The Sun\nHotheads are your key to victory—hit them to make them bigger\, then use your character’s reflector or Franklin Badges to take control and set your opponents ablaze! \n\n\n\n\nSmash for Ants\nYou’re the size of a ant and can barely jump! Try and knock your opponents off stage where they can’t recover\, but watch out for mini-mushrooms that make you even weaker. Tip\, characters with b-attacks that cause them to move like Ridley’s side-b are busted in this game mode. \n\n\n\n\nQuestions?\n\n\n\nIf you have any questions about the event you can send an email to hello@nceclecticesports.com \n\n\n\n\nRSVP Now\n\n\n\n\n\n\n\n\nTell Your Friends!\n\n\n\n\n\n\n\n\n\n\n\n\n\n\n\n\n\n\n\nAdditional Info\n\n\n\nTournament Prizes\n\n\n\nAll tournament prizes are provided by NC Eclectic Esports. \n\n\n\n1st Place Prize \n\n\n\n\nNC Eclectic Esports T-Shirt\n\n\n\nKawaii snack\n\n\n\nCollectible NC Eclectic Esports sticker\n\n\n\n1st Place Pin\n\n\n\n\n2nd Place Prize \n\n\n\n\nKawaii snack\n\n\n\nCollectible NC Eclectic Esports sticker\n\n\n\n2nd Place Pin\n\n\n\n\n3rd Place Prize \n\n\n\n\nCollectible NC Eclectic Esports sticker\n\n\n\n3rd Place Pin\n\n\n\n\n4th Place Prize \n\n\n\n\n4th Place Pin\n\n\n\n\nAccessibility\n\n\n\nGizmo Brew Works – Durham Taproom has a nearby parking lot. It is located on the second floor and has an elevator on one side of its building. \n\n\n\nInclusivity\n\n\n\nEveryone is welcome regardless of race\, gender identity\, age\, ability\, sexual orientation\, ethnicity\, religion\, nationality\, language\, body size\, neurodiversity\, and their intersections. Our events are a space where you can be yourself. Please email us with any concerns or accommodation requests. We will do our best to assist\, though we cannot guarantee all requests can be fulfilled. \n\n\n\nStream\n\n\n\nThis event will not be streamed. \n\n\n\nSetups\n\n\n\nAll gaming setups provided. There is no room for extra setups\, but feel free to bring your favorite controller. \n\n\n\nPhotography\n\n\n\nEvent photos and videos may be shared on social media. Send an email to hello@nceclecticesports.com to have any media of yourself removed. \n\n\n\nDisclaimer\n\n\n\nYou agree to take responsibility for your safety and belongings by attending this event. While we work to create a fun and safe environment\, NC Eclectic Esports is not liable for any incidents\, including accidents\, lost items\, or disruptive behavior. \n\n\n\nParents are responsible for their child’s safety and conduct\, even if they attend alone. Any children 12 years or younger may not be left alone. Any concerns should be reported to staff immediately.  \n\n\n\nThis event is not affiliated with or sponsored by Nintendo. \n\n\n\nPlease drink responsibly. \n\n\n\nThank you for understanding and helping us ensure a great experience for everyone!
URL:https://nceclecticesports.com/event/cc-gbwdt1/
LOCATION:Gizmo Brew Works – Durham Taproom\, 3109 Shannon Rd #201\, Durham\, NC\, 27707\, United States
END:VEVENT
BEGIN:VEVENT
DTSTART;TZID=America/New_York:20250108T190000
DTEND;TZID=America/New_York:20250108T210000
DTSTAMP:20260420T062841
CREATED:20241205T154240Z
LAST-MODIFIED:20250106T210954Z
UID:1736-1736362800-1736370000@nceclecticesports.com
SUMMARY:Casual Chaos at Neptunes Parlour: 4 Person Silly Smash Ultimate Tournament\, 21+
DESCRIPTION:Buy your ticket today!\n\n\n\n\n\n\n\n\n\nAges 21+\n\n\n\nNeptunes Parlour\, 14 W Martin St\, Raleigh\, NC\, 27601\n\n\n\nEvery Second Wednesday\, 7-9 PM\n\n\n\nSchedule\n\n\n\n\n7 PM: Free Play\n\n\n\n7:30 PM: Smash Ultimate Tournament Starts\n\n\n\n\nCasual Chaos is the Smash Ultimate tournament made for players who just want to have fun. With silly game modes\, no eliminations until grand finals\, minimum wait times\, prizes for the top 4\, and a relaxed atmosphere\, it’s the perfect way to meet new friends and chill out! \n\n\n\nLow sodium environment for casual gamers\n\n\n\nNo experience required. This event is focused on having fun and creating hilarious memories. Players will start in a Swiss bracket playing in groups of four with silly game modes. At the end of the event we will cut to our top four players who will compete for prizes. Whether this will be your first time playing Smash Bros. or you’ve been playing for years and are looking for a more casual environment\, you are welcome here.  \n\n\n\nHow the event works\n\n\n\nCHOOSE YOUR CHARACTER: Before 7:30 PM buy a ticket to sign up for our Smash Bros. Ultimate Tournament.  \n\n\n\nREADY\, GO: We will call your matches and tell you where to go. You will sit down and play in pods of four. At the end of your four person match\, record your placement on the scorecard given to you and report back to the organizers. Wait times between matches may be up to 20 minutes. \n\n\n\nNEW CHALLENGER: Each match afterwards you will face people that scored similar to you. Score high enough and you’ll make the cut for top four to play for prizes at the end of the event. \n\n\n\nSilly Game Modes\n\n\n\nAny of the following silly game modes may be picked randomly at the start of each round and each game mode lasts 4 minutes long. No game mode will be repeated until the final round when we will do 3 silly game modes. \n\n\n\nFinal Smash\nPick whoever you think has the coolest final smash and be the first to fill up your smash meter! \n\n\n\n\nFootsies\nEvery hit is a gamble with only 10 stamina to work with—land a strike\, but be careful\, or someone else might catch you back. \n\n\n\n\nMinion Master\nAssist Trophies are dropping—grab them first\, control the battlefield\, and defeat your opponents’ assists for extra points. \n\n\n\n\nRampage\nThe bigger\, the better! Start large and collect mushrooms to grow to gigantic proportions and crush your foes in this wild\, destruction-filled battle inspired by the classic Rampage. \n\n\n\n\nSalute The Sun\nHotheads are your key to victory—hit them to make them bigger\, then use your character’s reflector or Franklin Badges to take control and set your opponents ablaze! \n\n\n\n\nSmash for Ants\nYou’re the size of a ant and can barely jump! Try and knock your opponents off stage where they can’t recover\, but watch out for mini-mushrooms that make you even weaker. Tip\, characters with b-attacks that cause them to move like Ridley’s side-b are busted in this game mode. \n\n\n\n\nHot Potato\nThe bomb’s ticking—who will it explode on? The game will spawn in sticky bombs that players can hurl at each other. Dodge\, aim\, and pass the bomb before it’s too late—just don’t be the one caught holding it when it blows! \n\n\n\n\nQuestions?\n\n\n\nIf you have any questions about the event you can send an email to hello@nceclecticesports.com \n\n\n\n\nGet Your Ticket Now\n\n\n\n\n\n\n\n\nTell Your Friends!\n\n\n\n\n\n\n\n\n\n\n\n\n\n\n\n\n\n\n\nAdditional Info\n\n\n\nTournament Prizes\n\n\n\nAll tournament prizes are provided by NC Eclectic Esports. \n\n\n\n1st Place Prize \n\n\n\n\nNC Eclectic Esports T-Shirt\n\n\n\nKawaii snack\n\n\n\nCollectible NC Eclectic Esports sticker\n\n\n\n1st Place Pin\n\n\n\n\n2nd Place Prize \n\n\n\n\nKawaii snack\n\n\n\nCollectible NC Eclectic Esports sticker\n\n\n\n2nd Place Pin\n\n\n\n\n3rd Place Prize \n\n\n\n\nCollectible NC Eclectic Esports sticker\n\n\n\n3rd Place Pin\n\n\n\n\n4th Place Prize \n\n\n\n\n4th Place Pin\n\n\n\n\nAccessibility\n\n\n\nNepune’s Parlour does not have any dedicated parking and requires taking a flight of stairs to access. There is street parking and nearby parking decks. \n\n\n\nInclusivity\n\n\n\nEveryone is welcome regardless of race\, gender identity\, age\, ability\, sexual orientation\, ethnicity\, religion\, nationality\, language\, body size\, neurodiversity\, and their intersections. Our events are a space where you can be yourself. Please email us with any concerns or accommodation requests. We will do our best to assist\, though we cannot guarantee all requests can be fulfilled. \n\n\n\nStream\n\n\n\nThis event will not be streamed. \n\n\n\nSetups\n\n\n\nAll gaming setups provided. There is no room for extra setups\, but feel free to bring your favorite controller. \n\n\n\nPhotography\n\n\n\nEvent photos and videos may be shared on social media. Send an email to hello@nceclecticesports.com to have any media of yourself removed. \n\n\n\nDisclaimer\n\n\n\nYou agree to take responsibility for your safety and belongings by attending this event. While we work to create a fun and safe environment\, NC Eclectic Esports is not liable for any incidents\, including accidents\, lost items\, or disruptive behavior. \n\n\n\nThis event is 21+ only \n\n\n\nThis event is not affiliated with or sponsored by Nintendo. \n\n\n\nPlease drink responsibly. \n\n\n\nThank you for understanding and helping us ensure a great experience for everyone!
URL:https://nceclecticesports.com/event/cc-np2/
LOCATION:Neptunes Parlour\, 14 W Martin St.\, Raleigh\, NC\, 27601\, United States
ATTACH;FMTTYPE=image/png:https://nceclecticesports.com/wp-content/uploads/2024/12/CC-NP-Evergreen-Flyer-1.png
END:VEVENT
BEGIN:VEVENT
DTSTART;TZID=America/New_York:20250112T140000
DTEND;TZID=America/New_York:20250112T170000
DTSTAMP:20260420T062841
CREATED:20241205T211945Z
LAST-MODIFIED:20250111T235627Z
UID:1780-1736690400-1736701200@nceclecticesports.com
SUMMARY:Casual Gamer Retreat at Heyday Brewing: Chill with Mario Kart\, Smash\, and more video games! All Ages Welcome
DESCRIPTION:RSVP and come game with us!\n\n\n\n\n\n\n\nAll Ages Welcome!\n\n\n\nHeyday Brewing\, 5301 Tin Roof Wy\, Raleigh\, NC 27616\n\n\n\nJanuary 12th from 2-5 PM\, Every Second Sunday\n\n\n\nOptional Challenges:\n\n\n\n\n2 PM: Smash Bros. 64 – Classic Mode: Stage 1 Most Points \n\n\n\n3 PM: Mario Kart 64 – Rainbow Road Glitchy Time Trial\n\n\n\n4 PM: Starfox 64 – Point Match Mode\n\n\n\n\nFree to attend!\n\n\n\nWhy struggle with laggy online lobbies or the hassle of convincing friends to play Mario Kart or your other favorite game? Join us for a day dedicated to casual gaming and friendly competition at the Casual Gamer Retreat. \n\n\n\nFeeling nostalgic? Indulge in retro classics like Starfox 64 and Wii Sports Resort. \n\n\n\nFeeling competitive? Grab some grub from the venue to participate in the challenges to test your skills! Aim for the best score to win a prize for the day. \n\n\n\nFeeling creative? Come show up in your favorite cosplay and throw out some iconic quotes! \n\n\n\nGames\n\n\n\nNINTENDO SWITCH: Smash Ultimate\, Mario Kart 8 Deluxe\, Mario Party Superstars\, Puyo Puyo Tetris 2 \n\n\n\nWII U: Smash 4\, Smash Bros Brawl\, Mario Kart Wii\, Mario Kart 8\, Wii Sports\, Wii Sports Resort \n\n\n\nGAMECUBE: Melee\, Mario Kart Double Dash\, Mario Party 4 \n\n\n\nNINTENDO 64: Smash Bros 64\, Mario Kart 64\, Star Fox 64 \n\n\n\nSupport Heyday Brewing\n\n\n\nThank you to Heyday Brewing for supporting this casual video game event where the only salt you should experience is in your food. Make sure to check out their tasty food and satisfying drinks. \n\n\n\nQuestions?\n\n\n\nIf you have any questions about the event you can send an email to hello@nceclecticesports.com \n\n\n\n\nRSVP Now\n\n\n\n\n\n\n\n\nTell Your Friends!\n\n\n\n\n\n\n\n\n\n\n\n\n\n\n\n\n\n\n\nAdditional Info\n\n\n\n\n\n\n\nPrizes\n\n\n\nThe top player in each challenge will receive the following prizes: \n\n\n\n\n2 Collectible NC Eclectic Esports sticker\n\n\n\nKawaii snack\n\n\n\n\nThe top player across all three challenges will receive a NC Eclectic Esports t-shirt. \n\n\n\nAccessibility\n\n\n\nHeyday Brewing has onsite parking with standard accessible parking spots. There is a ramp at one of its entrances and there are automatic doors. \n\n\n\nInclusivity\n\n\n\nEveryone is welcome regardless of race\, gender identity\, age\, ability\, sexual orientation\, ethnicity\, religion\, nationality\, language\, body size\, neurodiversity\, and their intersections. Our events are a space where you can be yourself. Please email us with any concerns or accommodation requests. We will do our best to assist\, though we cannot guarantee all requests can be fulfilled. \n\n\n\nStream\n\n\n\nThis event is not streamed. \n\n\n\nSetups\n\n\n\nAll gaming setups provided. There is no room for extra setups\, but feel free to bring your favorite controller. \n\n\n\nPhotography\n\n\n\nEvent photos and videos may be shared on social media. Send an email to hello@nceclecticesports.com to have any media of yourself removed. \n\n\n\nDisclaimer\n\n\n\nBy attending this event\, you agree to take responsibility for your personal safety and belongings. While we work to create a fun and safe environment\, NC Eclectic Esports is not liable for any incidents\, including accidents\, lost items\, or disruptive behavior. \n\n\n\nParents are responsible for their child’s safety and conduct\, even if they attend alone. Any children 12 years or younger may not be left alone. Any concerns should be reported to staff immediately.  \n\n\n\nThis event is not affiliated with or sponsored by Nintendo or Sega. \n\n\n\nPlease drink responsibly. \n\n\n\nThank you for understanding and helping us ensure a great experience for everyone! \n\n\n\nNo one has made it onto my Starfox 64 leaderboard…until now…
URL:https://nceclecticesports.com/event/cgr-hb6/
LOCATION:Heyday Brewing\, 5301 Tin Roof Way\, Raleigh\, NC\, 27616\, United States
ATTACH;FMTTYPE=image/png:https://nceclecticesports.com/wp-content/uploads/2024/12/CGR-HB-Evergreen-Flyer.png
END:VEVENT
BEGIN:VEVENT
DTSTART;TZID=America/New_York:20250118T140000
DTEND;TZID=America/New_York:20250118T170000
DTSTAMP:20260420T062842
CREATED:20250109T224540Z
LAST-MODIFIED:20250110T205026Z
UID:2045-1737208800-1737219600@nceclecticesports.com
SUMMARY:Mario Kart 64 Tournament at NC Vintage Bazaar by NC Eclectic Esports
DESCRIPTION:RSVP today! RSVPs get priority for signing up in person.\n\n\n\n\n\nAll Ages Welcome!\n\n\n\n4825 Trinity Rd\, Raleigh\, NC 27607\n\n\n\nJanuary 18th\, 2-5 PM with Free Play Before and After\n\n\n\nFree to enter\, but the NC Vintage Bazaar requires a ticket!\n\n\n\nThis Mario Kart 64 tournament by NC Eclectic Esports is made for players who just want to have fun. With no eliminations until grand finals\, minimum wait times\, prizes for the top 4\, and a relaxed atmosphere\, it’s the perfect way to meet new friends and chill out! \n\n\n\nLow sodium environment for casual gamers\n\n\n\nNo experience required. This event is focused on having fun and creating hilarious memories. Players will start in a Swiss bracket playing in groups of four across four tracks. Everyone will get to play multiple rounds until the end of the event. At the end of the event we will cut to our top players who will compete for prizes. Whether this will be your first time playing Mario Kart 64 or you’ve been playing for years and are looking for a more casual environment\, you are welcome here.  \n\n\n\nHow the event works\n\n\n\nCHOOSE YOUR CHARACTER: Before 2 PM check-in to sign up for our Mario Kart 64 Tournament. RSVPing is not a guarantee of entry into the tournament\, but you do get priority. There is a 36 player cap and it is first come\, first serve if you haven’t RSVPed. \n\n\n\n3\, 2\, 1\, RACE: We will call your matches and tell you where to go. You will sit down and play in pods of four with each player getting to pick one track to race on. At the end of your four person match\, record what places you got each match on the scorecard given to you and report back to the organizers. Wait times between matches may be up to 30 minutes. \n\n\n\nANOTHER ROUND: Each match afterwards you will face people that scored similar to you. Score high enough and you’ll make the cut to play for prizes at the end of the event. \n\n\n\nQuestions?\n\n\n\nIf you have any questions about the event you can send an email to hello@nceclecticesports.com \n\n\n\n\nRSVP Now\n\n\n\n\n\n\n\n\nTell Your Friends!\n\n\n\n\n\n\n\n\n\n\n\n\n\n\n\n\n\n\n\nAdditional Info\n\n\n\nTournament Prizes\n\n\n\nAll tournament prizes are provided by NC Eclectic Esports. \n\n\n\n1st Place Prize \n\n\n\n\nNC Eclectic Esports T-Shirt\n\n\n\nKawaii snack\n\n\n\nCollectible NC Eclectic Esports sticker\n\n\n\n1st Place Pin\n\n\n\n\n2nd Place Prize \n\n\n\n\nKawaii snack\n\n\n\nCollectible NC Eclectic Esports sticker\n\n\n\n2nd Place Pin\n\n\n\n\n3rd Place Prize \n\n\n\n\nCollectible NC Eclectic Esports sticker\n\n\n\n3rd Place Pin\n\n\n\n\n4th Place Prize \n\n\n\n\n4th Place Pin\n\n\n\n\nInclusivity\n\n\n\nEveryone is welcome regardless of race\, gender identity\, age\, ability\, sexual orientation\, ethnicity\, religion\, nationality\, language\, body size\, neurodiversity\, and their intersections. Our events are a space where you can be yourself. Please email us with any concerns or accommodation requests. We will do our best to assist\, though we cannot guarantee all requests can be fulfilled. \n\n\n\nStream\n\n\n\nThis event will not be streamed. \n\n\n\nSetups\n\n\n\nAll gaming setups provided. There is no room for extra setups\, but feel free to bring your favorite controller. \n\n\n\nPhotography\n\n\n\nEvent photos and videos may be shared on social media. Send an email to hello@nceclecticesports.com to have any media of yourself removed. \n\n\n\nDisclaimer\n\n\n\nYou agree to take responsibility for your safety and belongings by attending this event. While we work to create a fun and safe environment\, NC Eclectic Esports is not liable for any incidents\, including accidents\, lost items\, or disruptive behavior. \n\n\n\nParents are responsible for their child’s safety and conduct\, even if they attend alone. Any children 12 years or younger may not be left alone. Any concerns should be reported to staff immediately.  \n\n\n\nThis event is not affiliated with or sponsored by Nintendo. \n\n\n\nThank you for understanding and helping us ensure a great experience for everyone!
URL:https://nceclecticesports.com/event/rrg-2/
LOCATION:NC Vintage Bazaar\, 4825 Trinity Rd\, Raleigh\, NC 27607
ATTACH;FMTTYPE=image/png:https://nceclecticesports.com/wp-content/uploads/2025/01/NCVB-NCEE.png
END:VEVENT
END:VCALENDAR