BEGIN:VCALENDAR
VERSION:2.0
PRODID:-//NC Eclectic Esports - ECPv6.15.20//NONSGML v1.0//EN
CALSCALE:GREGORIAN
METHOD:PUBLISH
X-ORIGINAL-URL:https://nceclecticesports.com
X-WR-CALDESC:Events for NC Eclectic Esports
REFRESH-INTERVAL;VALUE=DURATION:PT1H
X-Robots-Tag:noindex
X-PUBLISHED-TTL:PT1H
BEGIN:VTIMEZONE
TZID:America/New_York
BEGIN:DAYLIGHT
TZOFFSETFROM:-0500
TZOFFSETTO:-0400
TZNAME:EDT
DTSTART:20230312T070000
END:DAYLIGHT
BEGIN:STANDARD
TZOFFSETFROM:-0400
TZOFFSETTO:-0500
TZNAME:EST
DTSTART:20231105T060000
END:STANDARD
BEGIN:DAYLIGHT
TZOFFSETFROM:-0500
TZOFFSETTO:-0400
TZNAME:EDT
DTSTART:20240310T070000
END:DAYLIGHT
BEGIN:STANDARD
TZOFFSETFROM:-0400
TZOFFSETTO:-0500
TZNAME:EST
DTSTART:20241103T060000
END:STANDARD
BEGIN:DAYLIGHT
TZOFFSETFROM:-0500
TZOFFSETTO:-0400
TZNAME:EDT
DTSTART:20250309T070000
END:DAYLIGHT
BEGIN:STANDARD
TZOFFSETFROM:-0400
TZOFFSETTO:-0500
TZNAME:EST
DTSTART:20251102T060000
END:STANDARD
END:VTIMEZONE
BEGIN:VEVENT
DTSTART;TZID=America/New_York:20241110T130000
DTEND;TZID=America/New_York:20241110T170000
DTSTAMP:20260420T100138
CREATED:20241011T143856Z
LAST-MODIFIED:20241108T152524Z
UID:1412-1731243600-1731258000@nceclecticesports.com
SUMMARY:Casual Gamer Retreat: Chill with Mario Kart\, Smash\, and more video games! All Ages Welcome
DESCRIPTION:All Ages Welcome!\n\n\n\nHeyday Brewing\, 5301 Tin Roof Wy\, Raleigh\, NC 27616\n\n\n\nNovember 10th from 1-5 PM\, Every Second Sunday\n\n\n\nOptional Challenges:\n\n\n\n\n2 PM: Smash Bros. 64 – Break the Targets \n\n\n\n3 PM: Mario Kart 64 – Wario Stadium Glitchy Time Trial\n\n\n\n4 PM: Starfox 64 – Most Points on Corneria\n\n\n\n\nFree to attend!\n\n\n\n\nRSVP Now\n\n\n\n\nWhy struggle with laggy online lobbies or the hassle of convincing friends to play Mario Kart or your other favorite game? Join us for a day dedicated to casual gaming and friendly competition at the Casual Gamer Retreat. \n\n\n\nFeeling nostalgic? Indulge in retro classics like Starfox 64 and Wii Sports Resort. \n\n\n\nFeeling competitive? Grab some grub from the venue to participate in the challenges to test your skills! Aim for the best score to win a prize for the day and keep coming back to compete in our Casual Gamer League each season. \n\n\n\nFeeling creative? Come show up in your favorite cosplay and throw out some iconic quotes! \n\n\n\nGames\n\n\n\nNINTENDO SWITCH: Smash Ultimate\, Mario Kart 8 Deluxe\, Mario Party Superstars\, Puyo Puyo Tetris 2 \n\n\n\nWII U: Smash 4\, Smash Bros Brawl\, Mario Kart Wii\, Mario Kart 8\, Wii Sports\, Wii Sports Resort \n\n\n\nGAMECUBE: Melee\, Mario Kart Double Dash\, Mario Party 4 \n\n\n\nNINTENDO 64: Smash Bros 64\, Mario Kart 64\, Star Fox 64 \n\n\n\nSupport Heyday Brewing\n\n\n\nThank you to Heyday Brewing for supporting this casual video game event where the only salt you should experience is in your food. Make sure to check out their tasty food and satisfying drinks. \n\n\n\nQuestions?\n\n\n\nIf you have any questions about the event you can send an email to hello@nceclecticesports.com \n\n\n\nRSVP and come game with us!\n\n\n\n\n\n\n\n\n\n\n\nTell Your Friends!\n\n\n\n\n\n\n\n\n\n\n\n\n\n\n\n\n\n\n\nAdditional Info\n\n\n\n\n\n\n\nPrizes\n\n\n\nThe top player in each game each day will receive the following prizes: \n\n\n\n\nNC Eclectic Esports sticker\n\n\n\nKawaii snacks\n\n\n\n\nMore About Our Casual Gamer League\n\n\n\nThe top player in each game on the leaderboard each quarter will receive a cute plushie. Must be present to claim your prize and defend your spot on the leaderboard when the season ends on Jan 12th. Check the leaderboard for your standing. \n\n\n\nAccessibility\n\n\n\nHeyday Brewing has onsite parking with standard accessible parking spots. There is a ramp at one of its entrances and there are automatic doors. \n\n\n\nInclusivity\n\n\n\nEveryone is welcome regardless of race\, gender identity\, age\, ability\, sexual orientation\, ethnicity\, religion\, nationality\, language\, body size\, neurodiversity\, and their intersections. Our events are a space where you can be yourself. Please email us with any concerns or accommodation requests. We will do our best to assist\, though we cannot guarantee all requests can be fulfilled. \n\n\n\nStream\n\n\n\nThis event is not streamed. \n\n\n\nSetups\n\n\n\nAll gaming setups provided. There is no room for extra setups\, but feel free to bring your favorite controller. \n\n\n\nPhotography\n\n\n\nEvent photos and videos may be shared on social media. Send an email to hello(at)nceclecticesports.com to have any media of yourself removed. \n\n\n\nDisclaimer\n\n\n\nBy attending this event\, you agree to take responsibility for your personal safety and belongings. While we work to create a fun and safe environment\, NC Eclectic Esports is not liable for any incidents\, including accidents\, lost items\, or disruptive behavior. \n\n\n\nParents are responsible for their child’s safety and conduct\, even if they attend alone. Any concerns should be reported to staff immediately. \n\n\n\nThis event is not affiliated with or sponsored by Nintendo or Sega. \n\n\n\nPlease drink responsibly. \n\n\n\nThank you for understanding and helping us ensure a great experience for everyone! \n\n\n\nNo one has made it onto my Starfox 64 leaderboard…until now…
URL:https://nceclecticesports.com/event/cgr4/
LOCATION:Heyday Brewing\, 5301 Tin Roof Way\, Raleigh\, NC\, 27616\, United States
ATTACH;FMTTYPE=image/png:https://nceclecticesports.com/wp-content/uploads/2024/10/CGR-Square-Flyer-11-10-24-1.png
END:VEVENT
BEGIN:VEVENT
DTSTART;TZID=America/New_York:20241117T140000
DTEND;TZID=America/New_York:20241117T173000
DTSTAMP:20260420T100138
CREATED:20241018T212932Z
LAST-MODIFIED:20241127T191033Z
UID:1495-1731852000-1731864600@nceclecticesports.com
SUMMARY:Fighting Game Community College at Transfer Co Food Hall: Come relax with Smash\, Street Fighter\, and more video games! All Ages Welcome
DESCRIPTION:Prize Support Provided by Animazed\n\n\n\nAll Ages Welcome!\n\n\n\nTransfer Co Ballroom\, 500 E Davie St Suite 160\, Raleigh\, NC 27601\n\n\n\nNovember 17th from 2-5:30 PM\, Every Third Sunday\n\n\n\nSchedule\n\n\n\n\n2 PM: Free Play\n\n\n\n2:30 PM: First Session\n\n\n\n3:30 PM: Second Session\n\n\n\n4:30 PM: Third Session\n\n\n\n\nLimited spots\, walk-ins allowed\n\n\n\n\nSign Up Now\n\n\n\n\nFighting Game Community College is a place where you can set goals and trade feedback in a structured\, friendly meetup. Whether your goal is just to relax or to hone your skills\, you are welcomed here. This is not a tournament so feel free to experiment and have fun with no pressure to win. \n\n\n\nLow sodium environment for casual gamers\n\n\n\nNo experience required. This event is focused on learning\, having fun\, and creating hilarious memories. No pressure to win here. Whether this will be your first time playing fighting games or you’ve been playing for years and are looking for a more casual environment\, you are welcome here. \n\n\n\nHow the event works\n\n\n\nSET GOALS: Sit down with your fellow player and share your goals for the match. Relaxing\, having fun\, or finally playing that F-tier\, cheesy character are valid goals. \n\n\n\nPLAY MATCHES: Play with purpose\, head to the lab\, or try a funny ruleset until time is called. No need to track scores. Not sure what to do? Try these ideas. \n\n\n\nEXCHANGE FEEDBACK: After each match\, exchange feedback with your partner using our tip sheets. Sometimes you’ll know things that others don’t. Explaining concepts to others deepens your own learning (plus you’ll feel smart). \n\n\n\nGET COMBOS: At the beginning of the event you will be given a COMBO card that you can fill out after every match. Each card has a mix of different goals on them for within and outside the game. For each COMBO you complete\, you earn another spot in our giveaway at the end of the event. \n\n\n\nNEXT MATCH: Organizers will regulate your matches and you’ll repeat the process. This ensures ample play time with everyone while preventing king of the hill or the shy person never getting to play. \n\n\n\nGames\n\n\n\nGAMECUBE: Smash Bros. Melee on CRT \n\n\n\nNINTENDO SWITCH: Smash Bros. Ultimate \n\n\n\nPLAY STATION 5: Guilty Gear Strive\, Granblue Fantasy Versus: Rising\, Street Fighter 6\, Tekken 8\,  Under Night in Birth 2 \n\n\n\nDo good\, feel good: Pay what you believe it’s worth to you!\n\n\n\nPay what you think it’s worth. 10% goes to charity at the end of the month and the rest helps support us and buy more fighting game DLC! We value creating accessible third spaces\, so feel free to come out regardless of your ability to pay. \n\n\n\nQuestions?\n\n\n\nIf you have any questions about the event you can send an email to hello(at)nceclecticesports.com \n\n\n\nLimited spots\, walk-ins allowed\n\n\n\n Loading… \n\n\n\nWhen you have fun and learn something new at fighting games\n\n\n\n\n\n\n\nTell Your Friends!\n\n\n\n\n\n\n\n\n\n\n\n\n\n\n\n\n\n\n\nAdditional Info\n\n\n\nCOMBO Giveaway\n\n\n\nEach COMBO you fill out on your COMBO card earns you an entry into our Kawaii giveaway at the end of our event. One lucky player will receive our kawaii gift bag containing a $25 gift card provided by our sponsor Animazed\, kawaii sticker\, and a kawaii treat. \n\n\n\nAccessibility\n\n\n\nTransfer Co Food Hall has onsite parking with standard accessible parking spots. Ramps at all of its entrances and the ballroom. There are no automatic doors. \n\n\n\nInclusivity\n\n\n\nEveryone is welcome regardless of race\, gender identity\, age\, ability\, sexual orientation\, ethnicity\, religion\, nationality\, language\, body size\, neurodiversity\, and their intersections. Our events are a space where you can be yourself. Please email us with any concerns or accommodation requests. We will do our best to assist\, though we cannot guarantee all requests can be fulfilled. \n\n\n\nStream\n\n\n\nAt 20+ sign ups\, the event streams live at https://www.twitch.tv/nceclecticesports. Let us know if you prefer not to appear on stream. \n\n\n\nSetups\n\n\n\nAll gaming setups provided. There is room for extra setups if you want to bring your own\, but make sure to fill out our setups form first. \n\n\n\nPhotography\n\n\n\nEvent photos and videos may be shared on social media. Send an email to hello(at)nceclecticesports.com to have any media of yourself removed. \n\n\n\nDisclaimer\n\n\n\nYou agree to take responsibility for your safety and belongings by attending this event. While we work to create a fun and safe environment\, NC Eclectic Esports is not liable for any incidents\, including accidents\, lost items\, or disruptive behavior. \n\n\n\nParents are responsible for their child’s safety and conduct\, even if they attend alone. Any concerns should be reported to staff immediately. \n\n\n\nThis event is not affiliated with or sponsored by Arc System Works\, Bandai Namco\, Capcom\, Cygames\, or Nintendo. \n\n\n\nPlease drink responsibly. \n\n\n\nThank you for understanding and helping us ensure a great experience for everyone!
URL:https://nceclecticesports.com/event/fgcc34/
LOCATION:Transfer Co. Food Hall\, 500 E Davie St\, Raleigh\, NC\, 27601\, United States
ATTACH;FMTTYPE=image/png:https://nceclecticesports.com/wp-content/uploads/2024/10/FGCC-11-17-24-Still.png
END:VEVENT
BEGIN:VEVENT
DTSTART;TZID=America/New_York:20241127T190000
DTEND;TZID=America/New_York:20241127T203000
DTSTAMP:20260420T100138
CREATED:20241101T153434Z
LAST-MODIFIED:20241120T203241Z
UID:1603-1732734000-1732739400@nceclecticesports.com
SUMMARY:Jackbox Trivia Night at Neptunes Parlour: Come enjoy some silly video games! 21+
DESCRIPTION:Sponsored by Jackbox Games\n\n\n\nAges 21+\n\n\n\nNeptunes Parlour\, 14 W Martin St\, Raleigh\, NC\, 27601\n\n\n\nNov 27th from 7-8:30 PM\, Every Last Wednesday\n\n\n\n\nRSVP Now\n\n\n\n\nWednesdays just got better! Join us before karaoke at Neptunes Parlour for our Jackbox Trivia Night and reward yourself after a long day. Enjoy some lighthearted fun with easy-to-play Jackbox Games that are even better with a crowd. Aim for the best score to win a prize for the night and keep coming back to compete in our Jackbox League each season. \n\n\n\nFor Casual Gamers\n\n\n\nNo experience required. All of our games are easy to pick up in five minutes or less and focus on zany fun and hilarious moments. \n\n\n\nPotential Jackbox Games\n\n\n\nWe got all of them! Thanks to our sponsor Jackbox Games we’re able to provide you every single game from every Jackbox Party Pack now. \n\n\n\nQuestions?\n\n\n\nIf you have any questions about the event you can send an email to hello@nceclecticesports.com \n\n\n\nRSVP and come party with us!\n\n\n\n\n\nEnjoying some plushie wellness.\n\n\n\n\n\n\n\nTell Your Friends!\n\n\n\n\n\n\n\n\n\n\n\n\n\n\n\n\n\n\n\nAdditional Info\n\n\n\nPrizes\n\n\n\nThe top player/team each night will receive the following prizes: \n\n\n\n\nNC Eclectic Esports sticker\n\n\n\nJackbox Games Merch\n\n\n\n\nMore About Our Jackbox League\n\n\n\nThe top player on the leaderboard each quarter will receive a cute plushie courtesy of Jackbox Games.  Must be present to claim your prize and defend your spot on the leaderboard when the season ends on Jan 29th. Check the leaderboard for your standing. \n\n\n\nAccessibility\n\n\n\nNepune’s Parlour does not have any dedicated parking and requires taking a flight of stairs to access. There is street parking and nearby parking decks. \n\n\n\nInclusivity\n\n\n\nEveryone is welcome regardless of race\, gender identity\, age\, ability\, sexual orientation\, ethnicity\, religion\, nationality\, language\, body size\, neurodiversity\, and their intersections. Our events are a space where you can be yourself. Please email us with any concerns or accommodation requests. We will do our best to assist\, though we cannot guarantee all requests can be fulfilled. \n\n\n\nStream\n\n\n\nThere is no stream for this event. \n\n\n\nSetups\n\n\n\nAll gaming setups provided. There is not room for extra setups. \n\n\n\nPhotography\n\n\n\nEvent photos and videos may be shared on social media. Email us at hello(at)nceclecticesports.com to have any media of yourself removed. \n\n\n\nDisclaimer\n\n\n\nYou agree to take responsibility for your safety and belongings by attending this event. While we work to create a fun and safe environment\, NC Eclectic Esports is not liable for any incidents\, including accidents\, lost items\, or disruptive behavior. \n\n\n\nThis event is 21+ only. \n\n\n\nThis event is sponsored by Jackbox Games \n\n\n\nPlease drink responsibly. \n\n\n\nThank you for understanding and helping us ensure a great experience for everyone! \n\n\n\nPrepare to be gaslit.\n\n\n\n“It was made during a bad time in my life.”
URL:https://nceclecticesports.com/event/jtn-np5/
LOCATION:Neptunes Parlour\, 14 W Martin St.\, Raleigh\, NC\, 27601\, United States
ATTACH;FMTTYPE=image/png:https://nceclecticesports.com/wp-content/uploads/2024/11/JTN-NP-Still-Music-11-27-24.png
END:VEVENT
END:VCALENDAR