BEGIN:VCALENDAR
VERSION:2.0
PRODID:-//NC Eclectic Esports - ECPv6.15.20//NONSGML v1.0//EN
CALSCALE:GREGORIAN
METHOD:PUBLISH
X-ORIGINAL-URL:https://nceclecticesports.com
X-WR-CALDESC:Events for NC Eclectic Esports
REFRESH-INTERVAL;VALUE=DURATION:PT1H
X-Robots-Tag:noindex
X-PUBLISHED-TTL:PT1H
BEGIN:VTIMEZONE
TZID:America/New_York
BEGIN:DAYLIGHT
TZOFFSETFROM:-0500
TZOFFSETTO:-0400
TZNAME:EDT
DTSTART:20230312T070000
END:DAYLIGHT
BEGIN:STANDARD
TZOFFSETFROM:-0400
TZOFFSETTO:-0500
TZNAME:EST
DTSTART:20231105T060000
END:STANDARD
BEGIN:DAYLIGHT
TZOFFSETFROM:-0500
TZOFFSETTO:-0400
TZNAME:EDT
DTSTART:20240310T070000
END:DAYLIGHT
BEGIN:STANDARD
TZOFFSETFROM:-0400
TZOFFSETTO:-0500
TZNAME:EST
DTSTART:20241103T060000
END:STANDARD
BEGIN:DAYLIGHT
TZOFFSETFROM:-0500
TZOFFSETTO:-0400
TZNAME:EDT
DTSTART:20250309T070000
END:DAYLIGHT
BEGIN:STANDARD
TZOFFSETFROM:-0400
TZOFFSETTO:-0500
TZNAME:EST
DTSTART:20251102T060000
END:STANDARD
END:VTIMEZONE
BEGIN:VEVENT
DTSTART;TZID=America/New_York:20241204T190000
DTEND;TZID=America/New_York:20241204T203000
DTSTAMP:20260420T100036
CREATED:20241120T200224Z
LAST-MODIFIED:20241205T013915Z
UID:1655-1733338800-1733344200@nceclecticesports.com
SUMMARY:Casual Chaos at Neptunes Parlour: 4 Person Silly Smash Ultimate Tournament\, 21+
DESCRIPTION:Ages 21+\n\n\n\nNeptunes Parlour\, 14 W Martin St\, Raleigh\, NC\, 27601\n\n\n\nDecember 4th from 6:30-8:30 PM\n\n\n\nSchedule\n\n\n\n\n6:30 PM: Doors Open\, Free Play\n\n\n\n7 PM: Smash Ultimate Tournament Starts\n\n\n\n\n\nGet Your Ticket Now\n\n\n\n\nCasual Chaos is the Smash Ultimate tournament made for players who just want to have fun. With silly game modes\, no early eliminations\, prizes for the top 4\, and a relaxed atmosphere\, it’s the perfect way to meet new friends and chill out while playing your favorite game! \n\n\n\nLow sodium environment for casual gamers\n\n\n\nNo experience required. This event is focused on having fun and creating hilarious memories. Players will start in a Swiss bracket playing in groups of four with silly game modes. At the end of the event we will cut to our top four players who will compete for prizes. Whether this will be your first time playing Smash Bros. or you’ve been playing for years and are looking for a more casual environment\, you are welcome here.  \n\n\n\nHow the event works\n\n\n\nCHOOSE YOUR CHARACTER: Before 7 PM buy a ticket to sign up for our Smash Bros. Ultimate Tournament  \n\n\n\nREADY\, GO: We will call your matches and tell you where to go. You will sit down and play in pods of four. At the end of your four person match\, record your placement on the scorecard given to you and report back to the organizers. \n\n\n\nNEW CHALLENGER: Each match afterwards you will face people that scored similar to you. Score high enough and you’ll make the cut for top four to play for prizes at the end of the event. \n\n\n\nSilly Game Modes\n\n\n\nAny of the following silly game modes may be picked randomly at the start of each round and each game mode lasts 4 minutes long. No game mode will be repeated until the final round when we will do 3 silly game modes. \n\n\n\nFootsies\nEvery hit is a gamble with only 10 stamina to work with—land a strike\, but be careful\, or someone else might catch you back. \n\n\n\n\nMinion Master\nAssist Trophies are dropping—grab them first\, control the battlefield\, and defeat your opponents’ assists for extra points. \n\n\n\n\nRampage\nThe bigger\, the better! Start large and collect mushrooms to grow to gigantic proportions and crush your foes in this wild\, destruction-filled battle inspired by the classic Rampage. \n\n\n\n\nSalute The Sun\nHotheads are your key to victory—hit them to make them bigger\, then use your character’s reflector or Franklin Badges to take control and set your opponents ablaze! \n\n\n\n\nHot Potato\nIn this explosive twist on a playground classic\, the game will spawn in sticky bombs that players can hurl at each other. Dodge\, aim\, and pass the bomb before it’s too late—just don’t be the one caught holding it when it blows! \n\n\n\n\nQuestions?\n\n\n\nIf you have any questions about the event you can send an email to hello@nceclecticesports.com \n\n\n\nBuy your ticket today!\n\n\n\n\n\n\n\n\n\n\n\n\n\nTell Your Friends!\n\n\n\n\n\n\n\n\n\n\n\n\n\n\n\n\n\n\n\nAdditional Info\n\n\n\nTournament Prizes\n\n\n\nAll tournament prizes are provided by NC Eclectic Esports. \n\n\n\nAccessibility\n\n\n\nNepune’s Parlour does not have any dedicated parking and requires taking a flight of stairs to access. There is street parking and nearby parking decks. \n\n\n\nInclusivity\n\n\n\nEveryone is welcome regardless of race\, gender identity\, age\, ability\, sexual orientation\, ethnicity\, religion\, nationality\, language\, body size\, neurodiversity\, and their intersections. Our events are a space where you can be yourself. Please email us with any concerns or accommodation requests. We will do our best to assist\, though we cannot guarantee all requests can be fulfilled. \n\n\n\nStream\n\n\n\nThis event will not be streamed. \n\n\n\nSetups\n\n\n\nAll gaming setups provided. There is no room for extra setups\, but feel free to bring your favorite controller. \n\n\n\nPhotography\n\n\n\nEvent photos and videos may be shared on social media. Send an email to hello@nceclecticesports.com to have any media of yourself removed. \n\n\n\nDisclaimer\n\n\n\nYou agree to take responsibility for your safety and belongings by attending this event. While we work to create a fun and safe environment\, NC Eclectic Esports is not liable for any incidents\, including accidents\, lost items\, or disruptive behavior. \n\n\n\nParents are responsible for their child’s safety and conduct\, even if they attend alone. Any concerns should be reported to staff immediately. \n\n\n\nThis event is not affiliated with or sponsored by Nintendo. \n\n\n\nPlease drink responsibly. \n\n\n\nThank you for understanding and helping us ensure a great experience for everyone!
URL:https://nceclecticesports.com/event/cc-np1/
LOCATION:Neptunes Parlour\, 14 W Martin St.\, Raleigh\, NC\, 27601\, United States
ATTACH;FMTTYPE=image/png:https://nceclecticesports.com/wp-content/uploads/2024/11/CC-NP-Still-Music-12-4-24-2.png
END:VEVENT
END:VCALENDAR