BEGIN:VCALENDAR
VERSION:2.0
PRODID:-//NC Eclectic Esports - ECPv6.15.20//NONSGML v1.0//EN
CALSCALE:GREGORIAN
METHOD:PUBLISH
X-ORIGINAL-URL:https://nceclecticesports.com
X-WR-CALDESC:Events for NC Eclectic Esports
REFRESH-INTERVAL;VALUE=DURATION:PT1H
X-Robots-Tag:noindex
X-PUBLISHED-TTL:PT1H
BEGIN:VTIMEZONE
TZID:America/New_York
BEGIN:DAYLIGHT
TZOFFSETFROM:-0500
TZOFFSETTO:-0400
TZNAME:EDT
DTSTART:20230312T070000
END:DAYLIGHT
BEGIN:STANDARD
TZOFFSETFROM:-0400
TZOFFSETTO:-0500
TZNAME:EST
DTSTART:20231105T060000
END:STANDARD
BEGIN:DAYLIGHT
TZOFFSETFROM:-0500
TZOFFSETTO:-0400
TZNAME:EDT
DTSTART:20240310T070000
END:DAYLIGHT
BEGIN:STANDARD
TZOFFSETFROM:-0400
TZOFFSETTO:-0500
TZNAME:EST
DTSTART:20241103T060000
END:STANDARD
BEGIN:DAYLIGHT
TZOFFSETFROM:-0500
TZOFFSETTO:-0400
TZNAME:EDT
DTSTART:20250309T070000
END:DAYLIGHT
BEGIN:STANDARD
TZOFFSETFROM:-0400
TZOFFSETTO:-0500
TZNAME:EST
DTSTART:20251102T060000
END:STANDARD
END:VTIMEZONE
BEGIN:VEVENT
DTSTART;TZID=America/New_York:20241117T140000
DTEND;TZID=America/New_York:20241117T173000
DTSTAMP:20260420T115743
CREATED:20241018T212932Z
LAST-MODIFIED:20241127T191033Z
UID:1495-1731852000-1731864600@nceclecticesports.com
SUMMARY:Fighting Game Community College at Transfer Co Food Hall: Come relax with Smash\, Street Fighter\, and more video games! All Ages Welcome
DESCRIPTION:Prize Support Provided by Animazed\n\n\n\nAll Ages Welcome!\n\n\n\nTransfer Co Ballroom\, 500 E Davie St Suite 160\, Raleigh\, NC 27601\n\n\n\nNovember 17th from 2-5:30 PM\, Every Third Sunday\n\n\n\nSchedule\n\n\n\n\n2 PM: Free Play\n\n\n\n2:30 PM: First Session\n\n\n\n3:30 PM: Second Session\n\n\n\n4:30 PM: Third Session\n\n\n\n\nLimited spots\, walk-ins allowed\n\n\n\n\nSign Up Now\n\n\n\n\nFighting Game Community College is a place where you can set goals and trade feedback in a structured\, friendly meetup. Whether your goal is just to relax or to hone your skills\, you are welcomed here. This is not a tournament so feel free to experiment and have fun with no pressure to win. \n\n\n\nLow sodium environment for casual gamers\n\n\n\nNo experience required. This event is focused on learning\, having fun\, and creating hilarious memories. No pressure to win here. Whether this will be your first time playing fighting games or you’ve been playing for years and are looking for a more casual environment\, you are welcome here. \n\n\n\nHow the event works\n\n\n\nSET GOALS: Sit down with your fellow player and share your goals for the match. Relaxing\, having fun\, or finally playing that F-tier\, cheesy character are valid goals. \n\n\n\nPLAY MATCHES: Play with purpose\, head to the lab\, or try a funny ruleset until time is called. No need to track scores. Not sure what to do? Try these ideas. \n\n\n\nEXCHANGE FEEDBACK: After each match\, exchange feedback with your partner using our tip sheets. Sometimes you’ll know things that others don’t. Explaining concepts to others deepens your own learning (plus you’ll feel smart). \n\n\n\nGET COMBOS: At the beginning of the event you will be given a COMBO card that you can fill out after every match. Each card has a mix of different goals on them for within and outside the game. For each COMBO you complete\, you earn another spot in our giveaway at the end of the event. \n\n\n\nNEXT MATCH: Organizers will regulate your matches and you’ll repeat the process. This ensures ample play time with everyone while preventing king of the hill or the shy person never getting to play. \n\n\n\nGames\n\n\n\nGAMECUBE: Smash Bros. Melee on CRT \n\n\n\nNINTENDO SWITCH: Smash Bros. Ultimate \n\n\n\nPLAY STATION 5: Guilty Gear Strive\, Granblue Fantasy Versus: Rising\, Street Fighter 6\, Tekken 8\,  Under Night in Birth 2 \n\n\n\nDo good\, feel good: Pay what you believe it’s worth to you!\n\n\n\nPay what you think it’s worth. 10% goes to charity at the end of the month and the rest helps support us and buy more fighting game DLC! We value creating accessible third spaces\, so feel free to come out regardless of your ability to pay. \n\n\n\nQuestions?\n\n\n\nIf you have any questions about the event you can send an email to hello(at)nceclecticesports.com \n\n\n\nLimited spots\, walk-ins allowed\n\n\n\n Loading… \n\n\n\nWhen you have fun and learn something new at fighting games\n\n\n\n\n\n\n\nTell Your Friends!\n\n\n\n\n\n\n\n\n\n\n\n\n\n\n\n\n\n\n\nAdditional Info\n\n\n\nCOMBO Giveaway\n\n\n\nEach COMBO you fill out on your COMBO card earns you an entry into our Kawaii giveaway at the end of our event. One lucky player will receive our kawaii gift bag containing a $25 gift card provided by our sponsor Animazed\, kawaii sticker\, and a kawaii treat. \n\n\n\nAccessibility\n\n\n\nTransfer Co Food Hall has onsite parking with standard accessible parking spots. Ramps at all of its entrances and the ballroom. There are no automatic doors. \n\n\n\nInclusivity\n\n\n\nEveryone is welcome regardless of race\, gender identity\, age\, ability\, sexual orientation\, ethnicity\, religion\, nationality\, language\, body size\, neurodiversity\, and their intersections. Our events are a space where you can be yourself. Please email us with any concerns or accommodation requests. We will do our best to assist\, though we cannot guarantee all requests can be fulfilled. \n\n\n\nStream\n\n\n\nAt 20+ sign ups\, the event streams live at https://www.twitch.tv/nceclecticesports. Let us know if you prefer not to appear on stream. \n\n\n\nSetups\n\n\n\nAll gaming setups provided. There is room for extra setups if you want to bring your own\, but make sure to fill out our setups form first. \n\n\n\nPhotography\n\n\n\nEvent photos and videos may be shared on social media. Send an email to hello(at)nceclecticesports.com to have any media of yourself removed. \n\n\n\nDisclaimer\n\n\n\nYou agree to take responsibility for your safety and belongings by attending this event. While we work to create a fun and safe environment\, NC Eclectic Esports is not liable for any incidents\, including accidents\, lost items\, or disruptive behavior. \n\n\n\nParents are responsible for their child’s safety and conduct\, even if they attend alone. Any concerns should be reported to staff immediately. \n\n\n\nThis event is not affiliated with or sponsored by Arc System Works\, Bandai Namco\, Capcom\, Cygames\, or Nintendo. \n\n\n\nPlease drink responsibly. \n\n\n\nThank you for understanding and helping us ensure a great experience for everyone!
URL:https://nceclecticesports.com/event/fgcc34/
LOCATION:Transfer Co. Food Hall\, 500 E Davie St\, Raleigh\, NC\, 27601\, United States
ATTACH;FMTTYPE=image/png:https://nceclecticesports.com/wp-content/uploads/2024/10/FGCC-11-17-24-Still.png
END:VEVENT
END:VCALENDAR