BEGIN:VCALENDAR
VERSION:2.0
PRODID:-//NC Eclectic Esports - ECPv6.15.20//NONSGML v1.0//EN
CALSCALE:GREGORIAN
METHOD:PUBLISH
X-WR-CALNAME:NC Eclectic Esports
X-ORIGINAL-URL:https://nceclecticesports.com
X-WR-CALDESC:Events for NC Eclectic Esports
REFRESH-INTERVAL;VALUE=DURATION:PT1H
X-Robots-Tag:noindex
X-PUBLISHED-TTL:PT1H
BEGIN:VTIMEZONE
TZID:America/New_York
BEGIN:DAYLIGHT
TZOFFSETFROM:-0500
TZOFFSETTO:-0400
TZNAME:EDT
DTSTART:20230312T070000
END:DAYLIGHT
BEGIN:STANDARD
TZOFFSETFROM:-0400
TZOFFSETTO:-0500
TZNAME:EST
DTSTART:20231105T060000
END:STANDARD
BEGIN:DAYLIGHT
TZOFFSETFROM:-0500
TZOFFSETTO:-0400
TZNAME:EDT
DTSTART:20240310T070000
END:DAYLIGHT
BEGIN:STANDARD
TZOFFSETFROM:-0400
TZOFFSETTO:-0500
TZNAME:EST
DTSTART:20241103T060000
END:STANDARD
BEGIN:DAYLIGHT
TZOFFSETFROM:-0500
TZOFFSETTO:-0400
TZNAME:EDT
DTSTART:20250309T070000
END:DAYLIGHT
BEGIN:STANDARD
TZOFFSETFROM:-0400
TZOFFSETTO:-0500
TZNAME:EST
DTSTART:20251102T060000
END:STANDARD
END:VTIMEZONE
BEGIN:VEVENT
DTSTART;TZID=America/New_York:20241030T190000
DTEND;TZID=America/New_York:20241030T203000
DTSTAMP:20260420T115732
CREATED:20241008T162931Z
LAST-MODIFIED:20241030T134225Z
UID:1353-1730314800-1730320200@nceclecticesports.com
SUMMARY:Jackbox Trivia Night: Come enjoy some silly video games! 21+
DESCRIPTION:Sponsored by Jackbox Games\n\n\n\nAges 21+\n\n\n\nNeptune’s Parlour\, 14 W Martin St\, Raleigh\, NC\, 27601\n\n\n\nOct 30th from 7-8:30 PM\, Every Last Wednesday\n\n\n\n\nRSVP Now\n\n\n\n\nWednesdays just got better! Join us before karaoke at Neptune’s Parlour for our Jackbox Trivia Night and reward yourself after a long day. Enjoy some lighthearted fun with easy-to-play Jackbox Games that are even better with a crowd. Aim for the highest score to be the winner in our Jackbox League each season. \n\n\n\nThis time only featuring a Halloween costume contest! \n\n\n\nFor Casual Gamers\n\n\n\nNo experience required. All of our games are easy to pick up in five minutes or less and focus on zany fun and hilarious moments. \n\n\n\nPotential Jackbox Games\n\n\n\nFIBBAGE 4: The hilarious bluffing party game returns with an all-new Final Fibbage\, video questions\, and a fresh game mode! It’s a game so beloved that they decided to slap a 4 on it. \n\n\n\nJUNKTOPIA: A strange wizard has turned you into a frog! Create hilarious backstories for weird objects and then get them appraised. The player with the best items becomes human again! \n\n\n\nNONSENSORY: Professor Nanners is here to test your NSP (Nonsensory Perception). How close can you get to guessing where another player’s prompt ranks on the silliest of scales? \n\n\n\nROOMERANG: Channel your inner reality TV star in an attempt to come out on top! Respond to prompts\, bring the competition and role-play to avoid being voted out. \n\n\n\nCostume Contest!\n\n\n\nIn honor of the spookiest time of the year we will be holding a costume contest during the event. The winner will get a cute\, Halloween-inspired plushie and an extra punch on their loyalty card.  \n\n\n\nQuestions?\n\n\n\nIf you have any questions about the event you can send an email to hello(at)nceclecticesports.com \n\n\n\nRSVP and come party with us!\n\n\n\n\n\nEnjoying some plushie wellness.\n\n\n\n\n\n\n\nTell Your Friends!\n\n\n\n\n\n\n\n\n\n\n\n\n\n\n\n\n\n\n\nAdditional Info\n\n\n\nMore About Our Jackbox League\n\n\n\nThe top player on the leaderboard each quarter will receive prizes.  Must be present to claim your prize and defend your spot on the leaderboard on Oct 30th. Check the leaderboard for your standing. \n\n\n\nPrizes\n\n\n\nThe winner of our league will receive the following: \n\n\n\n\nCute plushie\n\n\n\nKawaii sticker\n\n\n\nKawaii treat\n\n\n\nT-Shirt from Neptune’s Parlour\n\n\n\nBe featured in the next newsletter\n\n\n\n\nAccessibility\n\n\n\nNepune’s Parlour does not have any dedicated parking and requires taking a flight of stairs to access. There is street parking and nearby parking decks. \n\n\n\nInclusivity\n\n\n\nEveryone is welcome regardless of race\, gender identity\, age\, ability\, sexual orientation\, ethnicity\, religion\, nationality\, language\, body size\, neurodiversity\, and their intersections. Our events are a space where you can be yourself. Please email us with any concerns or accommodation requests. We will do our best to assist\, though we cannot guarantee all requests can be fulfilled. \n\n\n\nStream\n\n\n\nThere is no stream for this event. \n\n\n\nSetups\n\n\n\nAll gaming setups provided. There is not room for extra setups. \n\n\n\nPhotography\n\n\n\nEvent photos and videos may be shared on social media. Email us at hello(at)nceclecticesports.com to have any media of yourself removed. \n\n\n\nDisclaimer\n\n\n\nYou agree to take responsibility for your safety and belongings by attending this event. While we work to create a fun and safe environment\, NC Eclectic Esports is not liable for any incidents\, including accidents\, lost items\, or disruptive behavior. \n\n\n\nThis event is 21+ only. \n\n\n\nThis event is sponsored by Jackbox Games \n\n\n\nPlease drink responsibly. \n\n\n\nThank you for understanding and helping us ensure a great experience for everyone! \n\n\n\nPrepare to be gaslit.\n\n\n\n“It was made during a bad time in my life.”
URL:https://nceclecticesports.com/event/jtn-np4/
LOCATION:Neptunes Parlour\, 14 W Martin St.\, Raleigh\, NC\, 27601\, United States
ATTACH;FMTTYPE=image/png:https://nceclecticesports.com/wp-content/uploads/2024/10/JTN-NP-Still-10-30-24.png
END:VEVENT
END:VCALENDAR